Package: Wrench Version: 1.28.0 Command: /home/biocbuild/bbs-3.22-bioc/R/bin/R CMD INSTALL Wrench StartedAt: 2025-11-03 15:03:50 -0500 (Mon, 03 Nov 2025) EndedAt: 2025-11-03 15:04:12 -0500 (Mon, 03 Nov 2025) EllapsedTime: 21.9 seconds RetCode: 0 Status: OK