Package: VplotR Version: 1.19.1 Command: /home/biocbuild/bbs-3.22-bioc/R/bin/R CMD INSTALL VplotR StartedAt: 2025-10-24 16:00:57 -0400 (Fri, 24 Oct 2025) EndedAt: 2025-10-24 16:01:28 -0400 (Fri, 24 Oct 2025) EllapsedTime: 31.4 seconds RetCode: 0 Status: OK