Package: VplotR Version: 1.19.1 Command: /home/biocbuild/bbs-3.22-bioc/R/bin/R CMD check --install=check:VplotR.install-out.txt --library=/home/biocbuild/bbs-3.22-bioc/R/site-library --timings VplotR_1.19.1.tar.gz StartedAt: 2025-10-25 05:20:45 -0400 (Sat, 25 Oct 2025) EndedAt: 2025-10-25 05:27:23 -0400 (Sat, 25 Oct 2025) EllapsedTime: 398.3 seconds RetCode: 0 Status: OK CheckDir: VplotR.Rcheck Warnings: 0