Package: VplotR Version: 1.19.1 Command: /home/biocbuild/bbs-3.22-bioc/R/bin/R CMD build --keep-empty-dirs --no-resave-data --md5 VplotR StartedAt: 2025-10-24 20:51:33 -0400 (Fri, 24 Oct 2025) EndedAt: 2025-10-24 20:53:19 -0400 (Fri, 24 Oct 2025) EllapsedTime: 106.1 seconds RetCode: 0 Status: OK PackageFile: VplotR_1.19.1.tar.gz PackageFileSize: 5.156 MiB