Package: VplotR Version: 1.19.1 Command: /Library/Frameworks/R.framework/Resources/bin/R CMD INSTALL VplotR StartedAt: 2025-10-24 15:48:26 -0400 (Fri, 24 Oct 2025) EndedAt: 2025-10-24 15:49:08 -0400 (Fri, 24 Oct 2025) EllapsedTime: 41.9 seconds RetCode: 0 Status: OK