Package: VplotR Version: 1.19.1 Command: /Library/Frameworks/R.framework/Resources/bin/R CMD build --keep-empty-dirs --no-resave-data VplotR StartedAt: 2025-10-24 19:11:59 -0400 (Fri, 24 Oct 2025) EndedAt: 2025-10-24 19:14:05 -0400 (Fri, 24 Oct 2025) EllapsedTime: 126.7 seconds RetCode: 0 Status: OK PackageFile: VplotR_1.19.1.tar.gz PackageFileSize: 5.161 MiB