Package: VplotR Version: 1.19.1 Command: rm -rf VplotR.buildbin-libdir && mkdir VplotR.buildbin-libdir && /Users/biocbuild/BBS/utils/build-universal.sh VplotR_1.19.1.tar.gz /Library/Frameworks/R.framework/Resources/bin/R VplotR.buildbin-libdir StartedAt: 2025-10-25 02:10:21 -0400 (Sat, 25 Oct 2025) EndedAt: 2025-10-25 02:11:06 -0400 (Sat, 25 Oct 2025) EllapsedTime: 44.7 seconds RetCode: 0 Status: OK PackageFile: VplotR_1.19.1.tgz PackageFileSize: 5.275 MiB