Package: VplotR Version: 1.20.0 Command: /Library/Frameworks/R.framework/Resources/bin/R CMD check --install=check:VplotR.install-out.txt --library=/Library/Frameworks/R.framework/Resources/library --no-vignettes --timings VplotR_1.20.0.tar.gz StartedAt: 2025-10-30 05:04:40 -0400 (Thu, 30 Oct 2025) EndedAt: 2025-10-30 05:06:45 -0400 (Thu, 30 Oct 2025) EllapsedTime: 125.5 seconds RetCode: 0 Status: OK CheckDir: VplotR.Rcheck Warnings: 0