Package: VplotR Version: 1.19.1 Command: /Library/Frameworks/R.framework/Resources/bin/R CMD build --keep-empty-dirs --no-resave-data VplotR StartedAt: 2025-10-24 18:06:37 -0400 (Fri, 24 Oct 2025) EndedAt: 2025-10-24 18:07:25 -0400 (Fri, 24 Oct 2025) EllapsedTime: 47.5 seconds RetCode: 0 Status: OK PackageFile: VplotR_1.19.1.tar.gz PackageFileSize: 5.162 MiB