Package: VisiumIO Version: 1.5.11 Command: /home/biocbuild/bbs-3.22-bioc/R/bin/R CMD build --keep-empty-dirs --no-resave-data --md5 VisiumIO StartedAt: 2025-10-24 20:50:32 -0400 (Fri, 24 Oct 2025) EndedAt: 2025-10-24 20:51:12 -0400 (Fri, 24 Oct 2025) EllapsedTime: 40.0 seconds RetCode: 0 Status: OK PackageFile: VisiumIO_1.5.11.tar.gz PackageFileSize: 1.829 MiB