Package: VisiumIO Version: 1.5.11 Command: /Library/Frameworks/R.framework/Resources/bin/R CMD INSTALL VisiumIO StartedAt: 2025-10-24 15:15:46 -0400 (Fri, 24 Oct 2025) EndedAt: 2025-10-24 15:15:57 -0400 (Fri, 24 Oct 2025) EllapsedTime: 10.9 seconds RetCode: 0 Status: OK