Package: VisiumIO Version: 1.5.11 Command: /Library/Frameworks/R.framework/Resources/bin/R CMD build --keep-empty-dirs --no-resave-data VisiumIO StartedAt: 2025-10-24 18:06:06 -0400 (Fri, 24 Oct 2025) EndedAt: 2025-10-24 18:06:23 -0400 (Fri, 24 Oct 2025) EllapsedTime: 17.2 seconds RetCode: 0 Status: OK PackageFile: VisiumIO_1.5.11.tar.gz PackageFileSize: 1.828 MiB