Package: VisiumIO Version: 1.5.11 Command: rm -rf VisiumIO.buildbin-libdir && mkdir VisiumIO.buildbin-libdir && /Users/biocbuild/BBS/utils/build-universal.sh VisiumIO_1.5.11.tar.gz /Library/Frameworks/R.framework/Resources/bin/R VisiumIO.buildbin-libdir StartedAt: 2025-10-24 23:23:56 -0400 (Fri, 24 Oct 2025) EndedAt: 2025-10-24 23:24:08 -0400 (Fri, 24 Oct 2025) EllapsedTime: 12.2 seconds RetCode: 0 Status: OK PackageFile: VisiumIO_1.5.11.tgz PackageFileSize: 1.95 MiB