Package: ViSEAGO Version: 1.24.0 Command: /home/biocbuild/bbs-3.22-bioc/R/bin/R CMD INSTALL ViSEAGO StartedAt: 2025-11-25 16:09:14 -0500 (Tue, 25 Nov 2025) EndedAt: 2025-11-25 16:09:48 -0500 (Tue, 25 Nov 2025) EllapsedTime: 34.2 seconds RetCode: 0 Status: OK