Package: ViSEAGO Version: 1.24.0 Command: /home/biocbuild/bbs-3.22-bioc/R/bin/R CMD build --keep-empty-dirs --no-resave-data --md5 ViSEAGO StartedAt: 2025-11-20 21:33:46 -0500 (Thu, 20 Nov 2025) EndedAt: 2025-11-20 21:34:41 -0500 (Thu, 20 Nov 2025) EllapsedTime: 55.0 seconds RetCode: 0 Status: OK PackageFile: ViSEAGO_1.24.0.tar.gz PackageFileSize: 8.628 MiB