Package: VegaMC Version: 3.47.0 Command: /home/biocbuild/bbs-3.22-bioc/R/bin/R CMD INSTALL VegaMC StartedAt: 2025-10-27 15:29:02 -0400 (Mon, 27 Oct 2025) EndedAt: 2025-10-27 15:29:17 -0400 (Mon, 27 Oct 2025) EllapsedTime: 14.8 seconds RetCode: 0 Status: OK