Package: VariantTools Version: 1.51.0 Command: /home/biocbuild/R/R/bin/R CMD INSTALL VariantTools StartedAt: 2025-10-23 21:06:31 -0000 (Thu, 23 Oct 2025) EndedAt: 2025-10-23 21:07:22 -0000 (Thu, 23 Oct 2025) EllapsedTime: 51.4 seconds RetCode: 0 Status: OK