Package: VariantTools Version: 1.51.0 Command: /home/biocbuild/R/R/bin/R CMD build --keep-empty-dirs --no-resave-data VariantTools StartedAt: 2025-10-21 03:58:55 -0000 (Tue, 21 Oct 2025) EndedAt: 2025-10-21 04:00:09 -0000 (Tue, 21 Oct 2025) EllapsedTime: 74.0 seconds RetCode: 1 Status: ERROR PackageFile: None PackageFileSize: NA