Package: VariantTools Version: 1.51.0 Command: /Library/Frameworks/R.framework/Resources/bin/R CMD build --keep-empty-dirs --no-resave-data VariantTools StartedAt: 2025-10-27 19:04:46 -0400 (Mon, 27 Oct 2025) EndedAt: 2025-10-27 19:05:55 -0400 (Mon, 27 Oct 2025) EllapsedTime: 68.7 seconds RetCode: 1 Status: ERROR PackageFile: None PackageFileSize: NA