Package: VariantTools Version: 1.51.0 Command: /Library/Frameworks/R.framework/Resources/bin/R CMD INSTALL VariantTools StartedAt: 2025-10-26 15:22:28 -0400 (Sun, 26 Oct 2025) EndedAt: 2025-10-26 15:22:45 -0400 (Sun, 26 Oct 2025) EllapsedTime: 17.3 seconds RetCode: 0 Status: OK