Package: VariantTools Version: 1.51.0 Command: /Library/Frameworks/R.framework/Resources/bin/R CMD build --keep-empty-dirs --no-resave-data VariantTools StartedAt: 2025-10-26 18:18:48 -0400 (Sun, 26 Oct 2025) EndedAt: 2025-10-26 18:19:13 -0400 (Sun, 26 Oct 2025) EllapsedTime: 25.3 seconds RetCode: 0 Status: OK PackageFile: VariantTools_1.51.0.tar.gz PackageFileSize: 5.968 MiB