Package: VariantExperiment Version: 1.23.0 Command: /home/biocbuild/bbs-3.22-bioc/R/bin/R CMD INSTALL VariantExperiment StartedAt: 2025-10-24 15:35:26 -0400 (Fri, 24 Oct 2025) EndedAt: 2025-10-24 15:35:50 -0400 (Fri, 24 Oct 2025) EllapsedTime: 23.9 seconds RetCode: 0 Status: OK