Package: VariantExperiment Version: 1.24.0 Command: /home/biocbuild/bbs-3.22-bioc/R/bin/R CMD check --install=check:VariantExperiment.install-out.txt --library=/home/biocbuild/bbs-3.22-bioc/R/site-library --timings VariantExperiment_1.24.0.tar.gz StartedAt: 2025-11-01 05:22:07 -0400 (Sat, 01 Nov 2025) EndedAt: 2025-11-01 05:25:38 -0400 (Sat, 01 Nov 2025) EllapsedTime: 211.1 seconds RetCode: 0 Status: OK CheckDir: VariantExperiment.Rcheck Warnings: 0