Package: VariantExperiment Version: 1.23.0 Command: /home/biocbuild/bbs-3.22-bioc/R/bin/R CMD build --keep-empty-dirs --no-resave-data --md5 VariantExperiment StartedAt: 2025-10-24 20:48:36 -0400 (Fri, 24 Oct 2025) EndedAt: 2025-10-24 20:49:22 -0400 (Fri, 24 Oct 2025) EllapsedTime: 46.0 seconds RetCode: 0 Status: OK PackageFile: VariantExperiment_1.23.0.tar.gz PackageFileSize: 328.2 KiB