Package: VariantExperiment Version: 1.23.0 Command: /Library/Frameworks/R.framework/Resources/bin/R CMD INSTALL VariantExperiment StartedAt: 2025-10-24 15:32:33 -0400 (Fri, 24 Oct 2025) EndedAt: 2025-10-24 15:33:06 -0400 (Fri, 24 Oct 2025) EllapsedTime: 33.8 seconds RetCode: 0 Status: OK