Package: VariantExperiment Version: 1.23.0 Command: /Library/Frameworks/R.framework/Resources/bin/R CMD build --keep-empty-dirs --no-resave-data VariantExperiment StartedAt: 2025-10-24 19:10:47 -0400 (Fri, 24 Oct 2025) EndedAt: 2025-10-24 19:11:29 -0400 (Fri, 24 Oct 2025) EllapsedTime: 42.1 seconds RetCode: 1 Status: ERROR PackageFile: None PackageFileSize: NA