Package: VariantExperiment Version: 1.23.0 Command: /Library/Frameworks/R.framework/Resources/bin/R CMD build --keep-empty-dirs --no-resave-data VariantExperiment StartedAt: 2025-10-24 18:05:10 -0400 (Fri, 24 Oct 2025) EndedAt: 2025-10-24 18:05:26 -0400 (Fri, 24 Oct 2025) EllapsedTime: 15.2 seconds RetCode: 1 Status: ERROR PackageFile: None PackageFileSize: NA