Package: VariantAnnotation Version: 1.55.2 Command: /home/biocbuild/R/R/bin/R CMD INSTALL VariantAnnotation StartedAt: 2025-10-23 21:02:16 -0000 (Thu, 23 Oct 2025) EndedAt: 2025-10-23 21:03:46 -0000 (Thu, 23 Oct 2025) EllapsedTime: 90.4 seconds RetCode: 0 Status: OK