Package: VariantAnnotation Version: 1.55.2 Command: /home/biocbuild/R/R/bin/R CMD check --install=check:VariantAnnotation.install-out.txt --library=/home/biocbuild/R/R/site-library --no-vignettes --timings VariantAnnotation_1.55.2.tar.gz StartedAt: 2025-10-17 14:49:31 -0000 (Fri, 17 Oct 2025) EndedAt: 2025-10-17 15:00:32 -0000 (Fri, 17 Oct 2025) EllapsedTime: 661.6 seconds RetCode: 0 Status: WARNINGS CheckDir: VariantAnnotation.Rcheck Warnings: 1