Package: VariantAnnotation Version: 1.55.2 Command: /home/biocbuild/R/R/bin/R CMD build --keep-empty-dirs --no-resave-data VariantAnnotation StartedAt: 2025-10-21 03:58:20 -0000 (Tue, 21 Oct 2025) EndedAt: 2025-10-21 04:02:23 -0000 (Tue, 21 Oct 2025) EllapsedTime: 243.1 seconds RetCode: 0 Status: OK PackageFile: VariantAnnotation_1.55.2.tar.gz PackageFileSize: 2.056 MiB