Package: VariantAnnotation Version: 1.55.2 Command: /home/biocbuild/bbs-3.22-bioc/R/bin/R CMD check --install=check:VariantAnnotation.install-out.txt --library=/home/biocbuild/bbs-3.22-bioc/R/site-library --timings VariantAnnotation_1.55.2.tar.gz StartedAt: 2025-10-28 05:14:43 -0400 (Tue, 28 Oct 2025) EndedAt: 2025-10-28 05:25:41 -0400 (Tue, 28 Oct 2025) EllapsedTime: 658.6 seconds RetCode: 0 Status: WARNINGS CheckDir: VariantAnnotation.Rcheck Warnings: 1