Package: VariantAnnotation Version: 1.55.2 Command: /Library/Frameworks/R.framework/Resources/bin/R CMD INSTALL VariantAnnotation StartedAt: 2025-10-27 15:32:42 -0400 (Mon, 27 Oct 2025) EndedAt: 2025-10-27 15:34:19 -0400 (Mon, 27 Oct 2025) EllapsedTime: 97.2 seconds RetCode: 0 Status: OK