Package: VariantAnnotation Version: 1.55.2 Command: /Library/Frameworks/R.framework/Resources/bin/R CMD INSTALL VariantAnnotation StartedAt: 2025-10-26 15:20:31 -0400 (Sun, 26 Oct 2025) EndedAt: 2025-10-26 15:21:00 -0400 (Sun, 26 Oct 2025) EllapsedTime: 29.3 seconds RetCode: 0 Status: OK