Package: VariantAnnotation Version: 1.55.2 Command: /Library/Frameworks/R.framework/Resources/bin/R CMD check --install=check:VariantAnnotation.install-out.txt --library=/Library/Frameworks/R.framework/Resources/library --no-vignettes --timings VariantAnnotation_1.55.2.tar.gz StartedAt: 2025-10-26 22:16:08 -0400 (Sun, 26 Oct 2025) EndedAt: 2025-10-26 22:19:30 -0400 (Sun, 26 Oct 2025) EllapsedTime: 201.4 seconds RetCode: 0 Status: WARNINGS CheckDir: VariantAnnotation.Rcheck Warnings: 1