Package: VariantAnnotation Version: 1.55.2 Command: /Library/Frameworks/R.framework/Resources/bin/R CMD build --keep-empty-dirs --no-resave-data VariantAnnotation StartedAt: 2025-10-26 18:18:32 -0400 (Sun, 26 Oct 2025) EndedAt: 2025-10-26 18:20:01 -0400 (Sun, 26 Oct 2025) EllapsedTime: 89.0 seconds RetCode: 0 Status: OK PackageFile: VariantAnnotation_1.55.2.tar.gz PackageFileSize: 2.024 MiB