Package: VariantAnnotation Version: 1.55.2 Maintainer: Bioconductor Package Maintainer MaintainerEmail: maintainer at bioconductor.org git_url: https://git.bioconductor.org/packages/VariantAnnotation git_branch: devel git_last_commit: af7ae49 git_last_commit_date: 2025-10-16 09:31:22 -0400 (Thu, 16 Oct 2025)