Package: VarCon Version: 1.17.0 Command: /home/biocbuild/bbs-3.22-bioc/R/bin/R CMD build --keep-empty-dirs --no-resave-data --md5 VarCon StartedAt: 2025-10-24 20:48:11 -0400 (Fri, 24 Oct 2025) EndedAt: 2025-10-24 20:49:02 -0400 (Fri, 24 Oct 2025) EllapsedTime: 51.0 seconds RetCode: 0 Status: OK PackageFile: VarCon_1.17.0.tar.gz PackageFileSize: 1.893 MiB