Package: VarCon Version: 1.17.0 Command: /Library/Frameworks/R.framework/Resources/bin/R CMD build --keep-empty-dirs --no-resave-data VarCon StartedAt: 2025-10-24 18:04:58 -0400 (Fri, 24 Oct 2025) EndedAt: 2025-10-24 18:05:22 -0400 (Fri, 24 Oct 2025) EllapsedTime: 23.3 seconds RetCode: 0 Status: OK PackageFile: VarCon_1.17.0.tar.gz PackageFileSize: 1.89 MiB