Package: VarCon Version: 1.17.0 Command: rm -rf VarCon.buildbin-libdir && mkdir VarCon.buildbin-libdir && /Users/biocbuild/BBS/utils/build-universal.sh VarCon_1.17.0.tar.gz /Library/Frameworks/R.framework/Resources/bin/R VarCon.buildbin-libdir StartedAt: 2025-10-24 23:23:38 -0400 (Fri, 24 Oct 2025) EndedAt: 2025-10-24 23:23:57 -0400 (Fri, 24 Oct 2025) EllapsedTime: 18.4 seconds RetCode: 0 Status: OK PackageFile: VarCon_1.17.0.tgz PackageFileSize: 2.015 MiB