Package: VanillaICE Version: 1.71.0 Command: /home/biocbuild/bbs-3.22-bioc/R/bin/R CMD INSTALL VanillaICE StartedAt: 2025-10-24 15:45:10 -0400 (Fri, 24 Oct 2025) EndedAt: 2025-10-24 15:45:45 -0400 (Fri, 24 Oct 2025) EllapsedTime: 34.8 seconds RetCode: 0 Status: OK