Package: VanillaICE Version: 1.71.0 Command: /home/biocbuild/bbs-3.22-bioc/R/bin/R CMD build --keep-empty-dirs --no-resave-data --md5 VanillaICE StartedAt: 2025-10-24 20:48:07 -0400 (Fri, 24 Oct 2025) EndedAt: 2025-10-24 20:49:05 -0400 (Fri, 24 Oct 2025) EllapsedTime: 58.1 seconds RetCode: 0 Status: OK PackageFile: VanillaICE_1.71.0.tar.gz PackageFileSize: 2.077 MiB