Package: VaSP Version: 1.21.0 Command: /home/biocbuild/bbs-3.22-bioc/R/bin/R CMD INSTALL VaSP StartedAt: 2025-10-24 15:40:08 -0400 (Fri, 24 Oct 2025) EndedAt: 2025-10-24 15:40:41 -0400 (Fri, 24 Oct 2025) EllapsedTime: 33.4 seconds RetCode: 0 Status: OK