Package: VERSO Version: 1.19.1 Command: /home/biocbuild/bbs-3.22-bioc/R/bin/R CMD INSTALL VERSO StartedAt: 2025-10-24 15:17:27 -0400 (Fri, 24 Oct 2025) EndedAt: 2025-10-24 15:18:11 -0400 (Fri, 24 Oct 2025) EllapsedTime: 44.0 seconds RetCode: 0 Status: OK