Package: VERSO Version: 1.19.1 Command: /home/biocbuild/bbs-3.22-bioc/R/bin/R CMD build --keep-empty-dirs --no-resave-data --md5 VERSO StartedAt: 2025-10-24 20:50:16 -0400 (Fri, 24 Oct 2025) EndedAt: 2025-10-24 20:50:23 -0400 (Fri, 24 Oct 2025) EllapsedTime: 7.0 seconds RetCode: 0 Status: OK PackageFile: VERSO_1.19.1.tar.gz PackageFileSize: 677.9 KiB