Package: VCFArray Version: 1.25.0 Command: /home/biocbuild/bbs-3.22-bioc/R/bin/R CMD check --install=check:VCFArray.install-out.txt --library=/home/biocbuild/bbs-3.22-bioc/R/site-library --timings VCFArray_1.25.0.tar.gz StartedAt: 2025-10-28 05:16:42 -0400 (Tue, 28 Oct 2025) EndedAt: 2025-10-28 05:21:56 -0400 (Tue, 28 Oct 2025) EllapsedTime: 314.3 seconds RetCode: 0 Status: OK CheckDir: VCFArray.Rcheck Warnings: 0