Package: VCFArray Version: 1.25.0 Command: /Library/Frameworks/R.framework/Resources/bin/R CMD INSTALL VCFArray StartedAt: 2025-10-26 15:30:30 -0400 (Sun, 26 Oct 2025) EndedAt: 2025-10-26 15:30:48 -0400 (Sun, 26 Oct 2025) EllapsedTime: 17.5 seconds RetCode: 0 Status: OK