Package: VCFArray Version: 1.25.0 Command: /Library/Frameworks/R.framework/Resources/bin/R CMD check --install=check:VCFArray.install-out.txt --library=/Library/Frameworks/R.framework/Resources/library --no-vignettes --timings VCFArray_1.25.0.tar.gz StartedAt: 2025-10-26 22:16:29 -0400 (Sun, 26 Oct 2025) EndedAt: 2025-10-26 22:18:16 -0400 (Sun, 26 Oct 2025) EllapsedTime: 107.3 seconds RetCode: 0 Status: OK CheckDir: VCFArray.Rcheck Warnings: 0