Package: VCFArray Version: 1.25.0 Command: /Library/Frameworks/R.framework/Resources/bin/R CMD build --keep-empty-dirs --no-resave-data VCFArray StartedAt: 2025-10-26 18:19:02 -0400 (Sun, 26 Oct 2025) EndedAt: 2025-10-26 18:19:31 -0400 (Sun, 26 Oct 2025) EllapsedTime: 29.3 seconds RetCode: 0 Status: OK PackageFile: VCFArray_1.25.0.tar.gz PackageFileSize: 302.6 KiB