Package: VAExprs Version: 1.15.0 Command: /home/biocbuild/bbs-3.22-bioc/R/bin/R CMD INSTALL VAExprs StartedAt: 2025-10-27 15:58:38 -0400 (Mon, 27 Oct 2025) EndedAt: 2025-10-27 15:59:13 -0400 (Mon, 27 Oct 2025) EllapsedTime: 34.8 seconds RetCode: 0 Status: OK