Package: Uniquorn Version: 2.29.2 Command: /home/biocbuild/bbs-3.22-bioc/R/bin/R CMD INSTALL Uniquorn StartedAt: 2025-10-24 15:50:59 -0400 (Fri, 24 Oct 2025) EndedAt: 2025-10-24 15:51:38 -0400 (Fri, 24 Oct 2025) EllapsedTime: 38.6 seconds RetCode: 0 Status: OK